BEGIN:VCALENDAR
VERSION:2.0
PRODID:-//pretix//pretix.eu//
BEGIN:VTIMEZONE
TZID:Europe/Berlin
BEGIN:STANDARD
DTSTART:20001029T040000
RRULE:FREQ=YEARLY;BYDAY=-1SU;BYMONTH=10
TZNAME:CET
TZOFFSETFROM:+0200
TZOFFSETTO:+0100
END:STANDARD
BEGIN:DAYLIGHT
DTSTART:20000326T030000
RRULE:FREQ=YEARLY;BYDAY=-1SU;BYMONTH=3
TZNAME:CEST
TZOFFSETFROM:+0100
TZOFFSETTO:+0200
END:DAYLIGHT
END:VTIMEZONE
BEGIN:VEVENT
UID:pretix-germanwatch-Jugendmentoring-2025-2026-0@anmeldung.germanwatch.or
 g
DTSTART;TZID=Europe/Berlin:20251115T120000
DTEND;TZID=Europe/Berlin:20251115T130000
DESCRIPTION:Tickets: https://anmeldung.germanwatch.org/Jugendmentoring-2025
 -2026/\nVeranstalter: Germanwatch e.V.
DTSTAMP:20260423T011207Z
LOCATION:Düsseldorf
SUMMARY:Jugendmentoring 2025-2026
END:VEVENT
END:VCALENDAR
