BEGIN:VCALENDAR
VERSION:2.0
PRODID:-//pretix//pretix.eu//
BEGIN:VTIMEZONE
TZID:Europe/Berlin
BEGIN:STANDARD
DTSTART:20001029T040000
RRULE:FREQ=YEARLY;BYDAY=-1SU;BYMONTH=10
TZNAME:CET
TZOFFSETFROM:+0200
TZOFFSETTO:+0100
END:STANDARD
BEGIN:DAYLIGHT
DTSTART:20000326T030000
RRULE:FREQ=YEARLY;BYDAY=-1SU;BYMONTH=3
TZNAME:CEST
TZOFFSETFROM:+0100
TZOFFSETTO:+0200
END:DAYLIGHT
END:VTIMEZONE
BEGIN:VEVENT
UID:pretix-germanwatch-pizza.politik-0@anmeldung.germanwatch.org
DTSTART;TZID=Europe/Berlin:20250925T160000
DTEND;TZID=Europe/Berlin:20250925T190000
DESCRIPTION:Tickets: https://anmeldung.germanwatch.org/pizza.politik/\nVera
 nstalter: Germanwatch e.V.
DTSTAMP:20260423T035507Z
LOCATION:Hansaallee 159\, 40549 Düsseldorf\, "SoulSociety"
SUMMARY:Pizza & Politik
END:VEVENT
END:VCALENDAR
